BEGIN:VCALENDAR
VERSION:2.0
PRODID:icalendar-ruby
CALSCALE:GREGORIAN
METHOD:PUBLISH
BEGIN:VEVENT
DTSTAMP:20260424T142916Z
UID:1-583076@newlifesanctuarymd.org
DTSTART:20261101T160000Z
DTEND:20261101T173000Z
CLASS:PUBLIC
CREATED:20260424T100621
DESCRIPTION:Bring the whole family and come and be blessed by the word of t
 he Lord.\n Click "Join Us Live" to get connected via Zoom.\n \n 
LAST-MODIFIED:20260424T100621
LOCATION:
SUMMARY:Sunday Morning Worship
URL;VALUE=URI:https://newlifesanctuarymd.org/events/sunday-morning-worship/
 2026-11-01
ATTACH;FILENAME=60. worship.jpg;FMTTYPE=image/jpeg:https://dq5pwpg1q8ru0.cl
 oudfront.net/2021/04/22/20/00/13/b1267e56-9e69-4b58-ac33-4dbb7756f16f/60.%
 20worship.jpg
END:VEVENT
END:VCALENDAR
